BEGIN:VCALENDAR
VERSION:2.0
PRODID:-//ChamberMaster//Event Calendar 2.0//EN
METHOD:PUBLISH
X-PUBLISHED-TTL:P3D
REFRESH-INTERVAL:P3D
CALSCALE:GREGORIAN
BEGIN:VEVENT
DTSTART:20110617T120000Z
DTEND:20110619T180000Z
X-MICROSOFT-CDO-ALLDAYEVENT:FALSE
SUMMARY:The World's Largest Passenger Carrying Zeppelin Airship is coming to Columbus!
DESCRIPTION:What's bigger than a Boeing 747\, floats 1\,000 feet above the ground and creates "instantaneous" smiles for miles around?\n\n	 \n\n	"The Farmers Airship" is coming to the city of Columbus\, Ohia and will be conducting tours from Friday\, June 17th - Sunday\, June 19th.  All Tours will depart from the Ohio State University Airport.\n\n	 \n\n	 One of only two Zeppelin Airships flying anywhere in the world\, the Farmers Airship is truly big news\, both literally and figuratively - not only is this the Zeppelin's first-ever visit to the area\, but at 246 feet long\, the Farmers Airship is the largest in the world!\n\n	 \n\n	Flights start at $375 for a 45 minute excursion\, $495 for a 1 hour excursion\, $750 for a 90 minute excursion and $950 for a 2 hour excursion.  \n\n	 \n\n	See the New Albany area like you've never seen it before - from 1000 feet\, cruising at 35 miles per hour with open windows with room to walk around and ceiling to floor windows!\n\n	 \n\n	For more information and to book\, please call Guest Services at (650) 969-8100 ext. 111.\n\n	 \n\n	For groups of up to 12\, please call Pamela Wright\, Group Sales and Special Events Manager at (650) 969-8100 ext. 110
X-ALT-DESC;FMTTYPE=text/html:<div>\n	What&#39\;s bigger than a Boeing 747\, floats 1\,000 feet above the ground and creates &quot\;instantaneous&quot\; smiles for miles around?</div>\n<div>\n	&nbsp\;</div>\n<div>\n	&quot\;The Farmers Airship&quot\; is coming to the city of Columbus\, Ohia and will be conducting tours from Friday\, June 17th - Sunday\, June 19th. &nbsp\;All Tours will depart from the Ohio State University Airport.</div>\n<div>\n	&nbsp\;</div>\n<div>\n	&nbsp\;One of only two Zeppelin Airships flying anywhere in the world\, the Farmers Airship is truly big news\, both literally and figuratively - not only is this the Zeppelin&#39\;s first-ever visit to the area\, but at 246 feet long\, the Farmers Airship is the largest in the world!</div>\n<div>\n	&nbsp\;</div>\n<div>\n	Flights start at $375 for a 45 minute excursion\, $495 for a 1 hour excursion\, $750 for a 90 minute excursion and $950 for a 2 hour excursion. &nbsp\;</div>\n<div>\n	&nbsp\;</div>\n<div>\n	See the New Albany area like you&#39\;ve never seen it before - from 1000 feet\, cruising at 35 miles per hour with open windows with room to walk around and ceiling to floor windows!</div>\n<div>\n	&nbsp\;</div>\n<div>\n	For more information and to book\, please call Guest Services at (650) 969-8100 ext. 111.</div>\n<div>\n	&nbsp\;</div>\n<div>\n	For groups of up to 12\, please call Pamela Wright\, Group Sales and Special Events Manager at (650) 969-8100 ext. 110</div>
LOCATION:Ohio State University Airport
UID:e.304.816
SEQUENCE:3
DTSTAMP:20260420T084638Z
URL:https://cm.newalbanychamber.com/events/details/the-world-s-largest-passenger-carrying-zeppelin-airship-is-coming-to-columbus-06-17-2011-816
END:VEVENT

END:VCALENDAR
