BEGIN:VCALENDAR
VERSION:2.0
PRODID:-//ChamberMaster//Event Calendar 2.0//EN
METHOD:PUBLISH
X-PUBLISHED-TTL:P3D
REFRESH-INTERVAL:P3D
CALSCALE:GREGORIAN
BEGIN:VEVENT
DTSTART;VALUE=DATE:20080910
DTEND;VALUE=DATE:20080911
TRANSP:TRANSPARENT
X-MICROSOFT-CDO-ALLDAYEVENT:TRUE
SUMMARY:''Then\, Now and Moving Forward''
DESCRIPTION:Hayley Gallery invites you to their artist opening for Steven Bush\, from Blacklick\, Ohio\, and his display of metal wall hangings and sculpture called\, "Then\, Now and Moving Forward". It is Friday\, October 10\, from 7pm until 9:30pm at Hayley Gallery on 45 Second Street in New Albany. For more information\, contact Hayley Savage at 614.855.4856 or visit their website at hayleygallery.com.
X-ALT-DESC;FMTTYPE=text/html:<div>Hayley Gallery invites you to their artist opening for Steven Bush\, from Blacklick\, Ohio\, and his display of metal wall hangings and sculpture called\, &quot\;Then\, Now and Moving Forward&quot\;. It is Friday\, October 10\, from 7pm until 9:30pm at Hayley Gallery on 45 Second Street in New Albany. For more information\, contact Hayley Savage at 614.855.4856 or visit their website at hayleygallery.com.</div>
LOCATION:
UID:e.304.313
SEQUENCE:3
DTSTAMP:20260422T114857Z
URL:https://cm.newalbanychamber.com/events/details/then-now-and-moving-forward-09-10-2008-313
END:VEVENT

END:VCALENDAR
