BEGIN:VCALENDAR
VERSION:2.0
PRODID:-//ChamberMaster//Event Calendar 2.0//EN
METHOD:PUBLISH
X-PUBLISHED-TTL:P3D
REFRESH-INTERVAL:P3D
CALSCALE:GREGORIAN
BEGIN:VEVENT
DTSTART;VALUE=DATE:20100429
DTEND;VALUE=DATE:20100430
TRANSP:TRANSPARENT
X-MICROSOFT-CDO-ALLDAYEVENT:TRUE
SUMMARY:Toastmasters Club Open House
DESCRIPTION:On behalf of the New Albany Communicators Toastmasters Club\, we would like to invite you to attend our Open House on Thursday\, April 29\, at 6:30 pm. Open House will be held at the New Albany First Church of the Nazarene\, 6000 Johnstown Road\, New Albany\, 43054.All are welcome to attend our Open House and as many meetings as you choose\; attendance is free. Guests who are interested in joining may do so. Toastmasters is a great way to develop personally and professionally\, in a supportive and encouraging environment. It is an enjoyable way to practice and hone communication and leadership skills\, while working at your own pace. Participants practice and learn skills by filling a meeting role\, ranging from giving a prepared or impromptu speech\, to serving as a timer\, evaluator or grammarian. Each speech and meeting is critiqued by a member in a constructive way. We communicate in a positive manner\, focusing on what was done right and what could be improved. Good communicators tend to be good leaders!We meet on the first and third Tuesday of each month\, from 6:30 until 8:00 pm at the New Albany First Church of the Nazarene. Next scheduled meeting is Tuesday\, May 4.
X-ALT-DESC;FMTTYPE=text/html:<div>On behalf of the New Albany Communicators Toastmasters Club\, we would like to invite you to attend our Open House on Thursday\, April 29\, at 6:30 pm. Open House will be held at the&nbsp\;New Albany First Church of the Nazarene\, 6000 Johnstown Road\, New Albany\, 43054.</div><div>All are welcome to attend our Open House and as many meetings as you choose\; attendance is free. Guests who are interested in joining may do so.</div><div>&nbsp\;</div><div>Toastmasters is a great way to develop personally and professionally\, in a supportive and encouraging environment. It is an enjoyable way to practice and hone communication and leadership skills\, while working at your own pace. Participants practice and learn skills by filling a meeting role\, ranging from giving a prepared or impromptu speech\, to serving as a timer\, evaluator or grammarian. Each speech and meeting is critiqued by a member in a constructive way. We communicate in a positive manner\, focusing on what was done right and what could be improved. Good communicators tend to be good leaders!</div><div>We meet on the first and third Tuesday of each month\, from 6:30 until 8:00 pm at the New Albany First Church of the Nazarene. Next scheduled meeting is Tuesday\, May 4.</div>
LOCATION:New Albany First Church of the Nazarene6000 Johnstown RoadNew Albany\, Ohio 40354
UID:e.304.646
SEQUENCE:3
DTSTAMP:20260421T071927Z
URL:https://cm.newalbanychamber.com/events/details/toastmasters-club-open-house-04-29-2010-646
END:VEVENT

END:VCALENDAR
