BEGIN:VCALENDAR
VERSION:2.0
PRODID:-//ChamberMaster//Event Calendar 2.0//EN
METHOD:PUBLISH
X-PUBLISHED-TTL:P3D
REFRESH-INTERVAL:P3D
CALSCALE:GREGORIAN
BEGIN:VEVENT
DTSTART;VALUE=DATE:20100522
DTEND;VALUE=DATE:20100523
TRANSP:TRANSPARENT
X-MICROSOFT-CDO-ALLDAYEVENT:TRUE
SUMMARY:Todd Camp presents ''Observation: Current State'' at Hayley Gallery
DESCRIPTION:Hayley Gallery invites you to see Todd Camp's\, of Newark\, showing of "Observations: Current State" on Saturday\, May 22\, 2010\, from 6:30 pm until 9:00 pm. This event be held at Hayley Gallery\, located at 45 Second Street\, New Albany 43054.New mixed media works. The show continues through July 30\, 2010.For more information call 614-855-4856 or visit www.hayleygallery.com.
X-ALT-DESC;FMTTYPE=text/html:<div>Hayley Gallery invites you to see Todd Camp's\, of Newark\, showing of &quot\;Observations: Current State&quot\; on Saturday\, May 22\, 2010\, from 6:30 pm until 9:00 pm. This event be held at Hayley Gallery\, located at 45 Second Street\, New Albany 43054.</div><div>New mixed media works. The show continues through July 30\, 2010.</div><div>For more information call 614-855-4856 or visit <a href="http://www.hayleygallery.com">www.hayleygallery.com</a>.</div>
LOCATION:45 Second StreetNew Albany\, Ohio 43054
UID:e.304.615
SEQUENCE:3
DTSTAMP:20260421T053402Z
URL:https://cm.newalbanychamber.com/events/details/todd-camp-presents-observation-current-state-at-hayley-gallery-05-22-2010-615
END:VEVENT

END:VCALENDAR
