BEGIN:VCALENDAR
VERSION:2.0
PRODID:-//ChamberMaster//Event Calendar 2.0//EN
METHOD:PUBLISH
X-PUBLISHED-TTL:P3D
REFRESH-INTERVAL:P3D
CALSCALE:GREGORIAN
BEGIN:VEVENT
DTSTART;VALUE=DATE:20091029
DTEND;VALUE=DATE:20091030
TRANSP:TRANSPARENT
X-MICROSOFT-CDO-ALLDAYEVENT:TRUE
SUMMARY:Trick or Treat New Albany 2009
DESCRIPTION:Trick-or-Treat will be held on Thursday\, October 29th\, from 6pm until 8pm in New Albany.
X-ALT-DESC;FMTTYPE=text/html:<div>\n<div>Trick-or-Treat will be held on Thursday\, October 29th\, from 6pm until 8pm in New Albany.</div>\n</div>\n
LOCATION:
UID:e.304.387
SEQUENCE:3
DTSTAMP:20260421T160121Z
URL:https://cm.newalbanychamber.com/events/details/trick-or-treat-new-albany-2009-387
END:VEVENT

END:VCALENDAR
