BEGIN:VCALENDAR
VERSION:2.0
PRODID:-//ChamberMaster//Event Calendar 2.0//EN
METHOD:PUBLISH
X-PUBLISHED-TTL:P3D
REFRESH-INTERVAL:P3D
CALSCALE:GREGORIAN
BEGIN:VEVENT
DTSTART:20101028T220000Z
DTEND:20101029T000000Z
X-MICROSOFT-CDO-ALLDAYEVENT:FALSE
SUMMARY:Trick or Treat New Albany 2010
DESCRIPTION:
X-ALT-DESC;FMTTYPE=text/html:
LOCATION:
UID:e.304.718
SEQUENCE:3
DTSTAMP:20260420T210734Z
URL:https://cm.newalbanychamber.com/events/details/trick-or-treat-new-albany-2010-718
END:VEVENT

END:VCALENDAR
