BEGIN:VCALENDAR
VERSION:2.0
PRODID:-//ChamberMaster//Event Calendar 2.0//EN
METHOD:PUBLISH
X-PUBLISHED-TTL:P3D
REFRESH-INTERVAL:P3D
CALSCALE:GREGORIAN
BEGIN:VEVENT
DTSTART;VALUE=DATE:20091028
DTEND;VALUE=DATE:20091029
TRANSP:TRANSPARENT
X-MICROSOFT-CDO-ALLDAYEVENT:TRUE
SUMMARY:Trunk or Treat at NAFCON
DESCRIPTION:Come and join the New Albany First Church of the Nazarene at their annual Trunk or Treat! It will be held on Wednesday\, October 28th\, located at 6000 Johnstown Raod of New Albany. For more information call 614-855-1921.
X-ALT-DESC;FMTTYPE=text/html:<div>Come and join the New Albany First Church of the Nazarene at their annual Trunk or Treat! It will be held on Wednesday\, October 28th\, located at 6000 Johnstown Raod of New Albany. For more information call 614-855-1921.</div>
LOCATION:
UID:e.304.525
SEQUENCE:3
DTSTAMP:20260421T160249Z
URL:https://cm.newalbanychamber.com/events/details/trunk-or-treat-at-nafcon-10-28-2009-525
END:VEVENT

END:VCALENDAR
