BEGIN:VCALENDAR
VERSION:2.0
PRODID:-//ChamberMaster//Event Calendar 2.0//EN
METHOD:PUBLISH
X-PUBLISHED-TTL:P3D
REFRESH-INTERVAL:P3D
CALSCALE:GREGORIAN
BEGIN:VEVENT
DTSTART;VALUE=DATE:20080927
DTEND;VALUE=DATE:20080928
TRANSP:TRANSPARENT
X-MICROSOFT-CDO-ALLDAYEVENT:TRUE
SUMMARY:Tutor Time Childcare Learning Center
DESCRIPTION:Open House -visit new facility\, refreshments\, face painting\, make and take crafts\, and a special visit by the Plain Township Fire Dept. with their fire safety house.
X-ALT-DESC;FMTTYPE=text/html:Open House -visit new facility\, refreshments\, face painting\, make and take crafts\, and a special visit by the Plain Township Fire Dept. with their fire safety house.        
LOCATION:Tutor Time Childcare Learning Center\, 10102 Woodcrest Way\, New Albany\, Ohio 43054
UID:e.304.263
SEQUENCE:3
DTSTAMP:20260422T114814Z
URL:https://cm.newalbanychamber.com/events/details/tutor-time-childcare-learning-center-09-27-2008-263
END:VEVENT

END:VCALENDAR
