BEGIN:VCALENDAR
VERSION:2.0
PRODID:-//ChamberMaster//Event Calendar 2.0//EN
METHOD:PUBLISH
X-PUBLISHED-TTL:P3D
REFRESH-INTERVAL:P3D
CALSCALE:GREGORIAN
BEGIN:VEVENT
DTSTART:20100325T203000Z
DTEND:20100325T230000Z
X-MICROSOFT-CDO-ALLDAYEVENT:FALSE
SUMMARY:Tutor Time Summer Camp Open House
DESCRIPTION:Tutor Time Summer Camp Open House Tutor Time10102 Woodcrest WayNew Albany\, Ohio
X-ALT-DESC;FMTTYPE=text/html:<div>Tutor Time Summer Camp Open House</div><div>&nbsp\;</div><div>Tutor Time</div><div>10102 Woodcrest Way</div><div>New Albany\, Ohio</div>
LOCATION:
UID:e.304.608
SEQUENCE:3
DTSTAMP:20260421T101741Z
URL:https://cm.newalbanychamber.com/events/details/tutor-time-summer-camp-open-house-03-25-2010-608
END:VEVENT

END:VCALENDAR
