BEGIN:VCALENDAR
VERSION:2.0
PRODID:-//ChamberMaster//Event Calendar 2.0//EN
METHOD:PUBLISH
X-PUBLISHED-TTL:P3D
REFRESH-INTERVAL:P3D
CALSCALE:GREGORIAN
BEGIN:VEVENT
DTSTART:20100213T170000Z
DTEND:20100213T220000Z
X-MICROSOFT-CDO-ALLDAYEVENT:FALSE
SUMMARY:Valentine's Day Jewelry Show at Hayley Gallery
DESCRIPTION:Valentine's Day Jewelry Truck Sale at Hayley Gallery45 Second StreetNew Albany\, Ohio  43054Tel: 614-855-4856
X-ALT-DESC;FMTTYPE=text/html:<div>Valentine's Day Jewelry Truck Sale at Hayley Gallery</div><div>45 Second Street</div><div>New Albany\, Ohio&nbsp\; 43054</div><div>Tel: 614-855-4856</div>
LOCATION:Local jewelry artists will be at the gallery this Saturday with hundreds of one-of-a kind pieces to choose from to give to that special someone for Valentine's Day. Also featuring Art\, Gallery Rentals and Custom Framing.
UID:e.304.573
SEQUENCE:3
DTSTAMP:20260421T103138Z
URL:https://cm.newalbanychamber.com/events/details/valentine-s-day-jewelry-show-at-hayley-gallery-02-13-2010-573
END:VEVENT

END:VCALENDAR
