BEGIN:VCALENDAR
VERSION:2.0
PRODID:-//ChamberMaster//Event Calendar 2.0//EN
METHOD:PUBLISH
X-PUBLISHED-TTL:P3D
REFRESH-INTERVAL:P3D
CALSCALE:GREGORIAN
BEGIN:VEVENT
DTSTART;VALUE=DATE:20091006
DTEND;VALUE=DATE:20091007
TRANSP:TRANSPARENT
X-MICROSOFT-CDO-ALLDAYEVENT:TRUE
SUMMARY:Village Council Meeting at 6:30pm
DESCRIPTION:
X-ALT-DESC;FMTTYPE=text/html:
LOCATION:
UID:e.304.380
SEQUENCE:3
DTSTAMP:20260421T161018Z
URL:https://cm.newalbanychamber.com/events/details/village-council-meeting-at-6-30pm-10-06-2009-380
END:VEVENT

END:VCALENDAR
