BEGIN:VCALENDAR
VERSION:2.0
PRODID:-//ChamberMaster//Event Calendar 2.0//EN
METHOD:PUBLISH
X-PUBLISHED-TTL:P3D
REFRESH-INTERVAL:P3D
CALSCALE:GREGORIAN
BEGIN:VEVENT
DTSTART;VALUE=DATE:20091020
DTEND;VALUE=DATE:20091021
TRANSP:TRANSPARENT
X-MICROSOFT-CDO-ALLDAYEVENT:TRUE
SUMMARY:Village Council Meeting at 6:30pm
DESCRIPTION:
X-ALT-DESC;FMTTYPE=text/html:
LOCATION:
UID:e.304.384
SEQUENCE:3
DTSTAMP:20260421T171326Z
URL:https://cm.newalbanychamber.com/events/details/village-council-meeting-at-6-30pm-10-20-2009-384
END:VEVENT

END:VCALENDAR
