BEGIN:VCALENDAR
VERSION:2.0
PRODID:-//ChamberMaster//Event Calendar 2.0//EN
METHOD:PUBLISH
X-PUBLISHED-TTL:P3D
REFRESH-INTERVAL:P3D
CALSCALE:GREGORIAN
BEGIN:VEVENT
DTSTART;VALUE=DATE:20091128
DTEND;VALUE=DATE:20091129
TRANSP:TRANSPARENT
X-MICROSOFT-CDO-ALLDAYEVENT:TRUE
SUMMARY:Walk with a Doc-Diabetes Awareness
DESCRIPTION:In recognition of November as the National Diabetes Awareness month\, Ohio Family and Sports Chiropractic invites you to their "Walk with a Doc" event on Saturday\, November 28th. Beginning at 9:00 am\, come and walk off those extra helpings of Thanksgiving dinner\, and help them reach their goal of 25 walkers by joining them at Market Square. For more information\, call 614-855-6999.
X-ALT-DESC;FMTTYPE=text/html:<div>In recognition of November as the National Diabetes Awareness month\, Ohio Family and Sports Chiropractic invites you to their &quot\;Walk with a Doc&quot\; event on Saturday\, November 28th. Beginning at 9:00 am\, come and walk off those extra helpings of Thanksgiving dinner\, and help them reach their goal of 25 walkers by joining them at Market Square. For more information\, call 614-855-6999.</div>
LOCATION:
UID:e.304.527
SEQUENCE:3
DTSTAMP:20260421T143938Z
URL:https://cm.newalbanychamber.com/events/details/walk-with-a-doc-diabetes-awareness-11-28-2009-527
END:VEVENT

END:VCALENDAR
