BEGIN:VCALENDAR
VERSION:2.0
PRODID:-//ChamberMaster//Event Calendar 2.0//EN
METHOD:PUBLISH
X-PUBLISHED-TTL:P3D
REFRESH-INTERVAL:P3D
CALSCALE:GREGORIAN
BEGIN:VEVENT
DTSTART:20090911T200000Z
DTEND:20090912T000000Z
X-MICROSOFT-CDO-ALLDAYEVENT:FALSE
SUMMARY:Walking Race-Packet Pickup
DESCRIPTION:Race Packet pick -up at the McCoy Center
X-ALT-DESC;FMTTYPE=text/html:<div>Race Packet pick -up at the McCoy Center</div>
LOCATION:McCoy Center100 W. Dublin Granville Rd.New Albany\, Oh 43054
UID:e.304.497
SEQUENCE:3
DTSTAMP:20260421T173208Z
URL:https://cm.newalbanychamber.com/events/details/walking-race-packet-pickup-09-11-2009-497
END:VEVENT

END:VCALENDAR
