BEGIN:VCALENDAR
VERSION:2.0
PRODID:-//ChamberMaster//Event Calendar 2.0//EN
METHOD:PUBLISH
X-PUBLISHED-TTL:P3D
REFRESH-INTERVAL:P3D
CALSCALE:GREGORIAN
BEGIN:VEVENT
DTSTART:20090912T130000Z
DTEND:20090912T210000Z
X-MICROSOFT-CDO-ALLDAYEVENT:FALSE
SUMMARY:Walking Race Packet pickup
DESCRIPTION:Walking Race Packet pickup
X-ALT-DESC;FMTTYPE=text/html:<div>Walking Race Packet pickup</div>
LOCATION:McCoy Center for the Arts100 W. Dublin-Granville Rd.New Albany\, Ohio 43054
UID:e.304.498
SEQUENCE:3
DTSTAMP:20260421T173207Z
URL:https://cm.newalbanychamber.com/events/details/walking-race-packet-pickup-09-12-2009-498
END:VEVENT

END:VCALENDAR
