BEGIN:VCALENDAR
VERSION:2.0
PRODID:-//ChamberMaster//Event Calendar 2.0//EN
METHOD:PUBLISH
X-PUBLISHED-TTL:P3D
REFRESH-INTERVAL:P3D
CALSCALE:GREGORIAN
BEGIN:VEVENT
DTSTART;VALUE=DATE:20081106
DTEND;VALUE=DATE:20081110
TRANSP:TRANSPARENT
X-MICROSOFT-CDO-ALLDAYEVENT:TRUE
SUMMARY:West Side Story Musical
DESCRIPTION:Prepare yourself to be mesmerized by the wonderful music and dance choreography in this modern day production as it conjures up not only the nostalgic feeling of the very first time you saw "West Side Story"\, but also with a new twist. The New Albany High School Drama Department invities you to their production of "West Side Story" at the McCoy Community Center for the Arts on 100 W. Granville Street in New Albany\, 43054. It will held on November 6\, 7\, 8 at 7:30pm and on November 9 at 2:30pm. Tickets will be available at the door costing $10 for general admission and $5 for seniors and students. For more information visit http://www.new-albany.k12.oh.us/artsmomentum/news/west_side_story.php
X-ALT-DESC;FMTTYPE=text/html:<div>&nbsp\;Prepare yourself to be mesmerized by the wonderful music and dance choreography in this modern day production as it conjures up not only the nostalgic feeling of the very first time you saw &quot\;West Side Story&quot\;\, but also with a new twist. The New Albany High School Drama Department invities you to their production of &quot\;West Side Story&quot\; at the McCoy Community Center for the Arts on 100 W. Granville Street in New Albany\, 43054. It will held on November 6\, 7\, 8 at 7:30pm and on November 9 at 2:30pm. Tickets will be available at the door costing $10 for general admission and $5 for seniors and students. For more information visit <a href="http://www.new-albany.k12.oh.us/artsmomentum/news/west_side_story.php">http://www.new-albany.k12.oh.us/artsmomentum/news/west_side_story.php</a></div>
LOCATION:
UID:e.304.336
SEQUENCE:3
DTSTAMP:20260422T101042Z
URL:https://cm.newalbanychamber.com/events/details/west-side-story-musical-11-06-2008-336
END:VEVENT

END:VCALENDAR
