BEGIN:VCALENDAR
VERSION:2.0
PRODID:-//ChamberMaster//Event Calendar 2.0//EN
METHOD:PUBLISH
X-PUBLISHED-TTL:P3D
REFRESH-INTERVAL:P3D
CALSCALE:GREGORIAN
BEGIN:VEVENT
DTSTART:20110624T210000Z
DTEND:20110624T230000Z
X-MICROSOFT-CDO-ALLDAYEVENT:FALSE
SUMMARY:Winding Hollow Open House & QFM96 Party
DESCRIPTION:Winding Hollow Grand Opening & QFM96 Pre-Party\n\n6140 Babbitt Road\n\nNew Albany\, Ohio\n\n\n\nEnjoy Complimentary snacks and $2.00 beer in the Tap Inn Lounge.\n\nEnter to win fabulous prizes including VIP Concert Ticket Giveaway and Golf foursome!\n\n\n\nwww.windinghollow.com\n\nor call 855-8600 for more details.
X-ALT-DESC;FMTTYPE=text/html:<span style="font-size: 14px"><strong>Winding Hollow Grand Opening &amp\; QFM96 Pre-Party<br />\n6140 Babbitt Road<br />\nNew Albany\, Ohio<br />\n<br />\nEnjoy Complimentary snacks and $2.00 beer in the Tap Inn Lounge.<br />\nEnter to win fabulous prizes including VIP Concert Ticket Giveaway and Golf foursome!<br />\n<br />\nwww.windinghollow.com<br />\nor call 855-8600 for more details.</strong></span>
LOCATION:Winding Hollow Country Club 6140 Babbitt Road New Albany\, Ohio 43054
UID:e.304.819
SEQUENCE:3
DTSTAMP:20260420T084331Z
URL:https://cm.newalbanychamber.com/events/details/winding-hollow-open-house-qfm96-party-06-24-2011-819
END:VEVENT

END:VCALENDAR
