BEGIN:VCALENDAR
VERSION:2.0
PRODID:-//ChamberMaster//Event Calendar 2.0//EN
METHOD:PUBLISH
X-PUBLISHED-TTL:P3D
REFRESH-INTERVAL:P3D
CALSCALE:GREGORIAN
BEGIN:VEVENT
DTSTART:20101212T200000Z
DTEND:20101212T220000Z
X-MICROSOFT-CDO-ALLDAYEVENT:FALSE
SUMMARY:Windsong Massage & Therapies Open House
DESCRIPTION:Windsong Massage & Therapies\, Inc.\n\nOpen House
X-ALT-DESC;FMTTYPE=text/html:<strong><span style="font-size: 14px">Windsong Massage &amp\; Therapies\, Inc.<br />\nOpen House</span></strong>
LOCATION:97 A East Main Street New Albany\, Ohio 43054 Regfreshments\, great values and a chance to win a FREE Massage! Come join us for this great Open House Event 3-5 p.m.
UID:e.304.727
SEQUENCE:3
DTSTAMP:20260420T190658Z
URL:https://cm.newalbanychamber.com/events/details/windsong-massage-therapies-open-house-12-12-2010-727
END:VEVENT

END:VCALENDAR
