BEGIN:VCALENDAR
VERSION:2.0
PRODID:-//ChamberMaster//Event Calendar 2.0//EN
METHOD:PUBLISH
X-PUBLISHED-TTL:P3D
REFRESH-INTERVAL:P3D
CALSCALE:GREGORIAN
BEGIN:VEVENT
DTSTART:20220201T170000Z
DTEND:20220201T190000Z
X-MICROSOFT-CDO-ALLDAYEVENT:FALSE
SUMMARY:Winter Half-Way Hike
DESCRIPTION:A little birdie told me to make the last half of winter count! Learn about what makes this time of year so special and inspirational. By the end of this hike\, you are going to wish winter was even longer\, maybe. Following the hike\, we will gather for a winter picnic\, not to be missed! Our Seasonal Hikes are offered to celebrate the amazing transitions from season to season. We will explore our local world\, looking at nature and history relating to the season. As we look deeper into the transitions of seasons we will hike (generally 3-5 miles) locally\, observe and explore nature through history and legends.
X-ALT-DESC;FMTTYPE=text/html:<br />\nA little birdie told me to make the last half of winter count! Learn about what makes this time of year so special and inspirational. By the end of this hike\, you are going to wish winter was even longer\, maybe. Following the hike\, we will gather for a winter picnic\, not to be missed! Our Seasonal Hikes are offered to celebrate the amazing transitions from season to season. We will explore our local world\, looking at nature and history relating to the season. As we look deeper into the transitions of seasons we will hike (generally 3-5 miles) locally\, observe and explore nature through history and legends.
LOCATION:Philip Heit Center - Outdoor Patio 150 W Main Street New Albany\, OH 43054
UID:e.304.15273
SEQUENCE:3
DTSTAMP:20260420T014153Z
URL:https://cm.newalbanychamber.com/events/details/winter-half-way-hike-15273
END:VEVENT

END:VCALENDAR
