BEGIN:VCALENDAR
VERSION:2.0
PRODID:-//ChamberMaster//Event Calendar 2.0//EN
METHOD:PUBLISH
X-PUBLISHED-TTL:P3D
REFRESH-INTERVAL:P3D
CALSCALE:GREGORIAN
BEGIN:VEVENT
DTSTART:20110407T153000Z
DTEND:20110407T173000Z
X-MICROSOFT-CDO-ALLDAYEVENT:FALSE
SUMMARY:Working Smart with Microsoft Outlook-"Lunch & Learn"
DESCRIPTION:"Working Smart with Microsoft Outlook"\n\nPresented by Bob Cich of Priority Management\n\n\n\nLearn how to manage all aspects of your daily activities!\n\n11:30 a.m.-1:30 p.m.
X-ALT-DESC;FMTTYPE=text/html:<strong>&quot\;Working Smart with Microsoft Outlook&quot\;<br />\nPresented by Bob Cich of Priority Management</strong><br />\n<br />\nLearn how to manage all aspects of your daily activities!<br />\n11:30 a.m.-1:30 p.m.<br />\n
LOCATION:New Albany Chamber Office 220 Market Street\, Suite 204 New Albany\, Ohio
UID:e.304.773
SEQUENCE:3
DTSTAMP:20260420T113129Z
URL:https://cm.newalbanychamber.com/events/details/working-smart-with-microsoft-outlook-lunch-learn-04-07-2011-773
END:VEVENT

END:VCALENDAR
