BEGIN:VCALENDAR
VERSION:2.0
PRODID:-//ChamberMaster//Event Calendar 2.0//EN
METHOD:PUBLISH
X-PUBLISHED-TTL:P3D
REFRESH-INTERVAL:P3D
CALSCALE:GREGORIAN
BEGIN:VEVENT
DTSTART:20100829T160000Z
DTEND:20100829T210000Z
X-MICROSOFT-CDO-ALLDAYEVENT:FALSE
SUMMARY:Yardscapes
DESCRIPTION:YardscapesAdmission:  $5.00For more information: yardscapes.org
X-ALT-DESC;FMTTYPE=text/html:<div>Yardscapes</div><div>Admission:&nbsp\; $5.00</div><div>For more information: yardscapes.org</div><div>&nbsp\;</div>
LOCATION:
UID:e.304.684
SEQUENCE:3
DTSTAMP:20260421T002551Z
URL:https://cm.newalbanychamber.com/events/details/yardscapes-08-29-2010-684
END:VEVENT

END:VCALENDAR
