BEGIN:VCALENDAR
VERSION:2.0
PRODID:-//ChamberMaster//Event Calendar 2.0//EN
METHOD:PUBLISH
X-PUBLISHED-TTL:P3D
REFRESH-INTERVAL:P3D
CALSCALE:GREGORIAN
BEGIN:VEVENT
DTSTART:20260430T193000Z
DTEND:20260430T210000Z
X-MICROSOFT-CDO-ALLDAYEVENT:FALSE
SUMMARY:YUCK! Spring 2026
DESCRIPTION:YUCK! is all about getting outside\, getting messy\, and discovering the wonders of Rose Run Park! Designed for kids in grades 1 3\, this program encourages hands-on exploration and imaginative free play in nature. As children wade through the creek\, search for critters\, and build with natural materials\, they'll develop a deeper appreciation for the natural world and the community they're a part of. Along the way\, kids build confidence as they try new things\, problem-solve\, and navigate the natural world. They'll also make new friends\, practice teamwork\, and strengthen social skills   all while reaping the many benefits of outdoor play\, from boosting creativity and resilience to supporting overall health and well-being. Every muddy splash and curious discovery helps nurture a lifelong love for nature and community.
X-ALT-DESC;FMTTYPE=text/html:YUCK! is all about getting outside\, getting messy\, and discovering the wonders of Rose Run Park! Designed for kids in grades 1&ndash\;3\, this program encourages hands-on exploration and imaginative free play in nature. As children wade through the creek\, search for critters\, and build with natural materials\, they&rsquo\;ll develop a deeper appreciation for the natural world and the community they&rsquo\;re a part of. Along the way\, kids build confidence as they try new things\, problem-solve\, and navigate the natural world. They&rsquo\;ll also make new friends\, practice teamwork\, and strengthen social skills &mdash\; all while reaping the many benefits of outdoor play\, from boosting creativity and resilience to supporting overall health and well-being. Every muddy splash and curious discovery helps nurture a lifelong love for nature and community.
LOCATION:Programs will start and end at the Philip Heit Center 150 W Main Street New Albany\, OH 43054 Students will also walk around/explore surrounding outdoor areas
UID:e.304.21838
SEQUENCE:3
DTSTAMP:20260419T220452Z
URL:https://cm.newalbanychamber.com/events/details/yuck-spring-2026-04-30-2026-21838
END:VEVENT

END:VCALENDAR
