BEGIN:VCALENDAR
VERSION:2.0
PRODID:-//ChamberMaster//Event Calendar 2.0//EN
METHOD:PUBLISH
X-PUBLISHED-TTL:P3D
REFRESH-INTERVAL:P3D
CALSCALE:GREGORIAN
BEGIN:VEVENT
DTSTART;VALUE=DATE:20110316
DTEND;VALUE=DATE:20110317
TRANSP:TRANSPARENT
X-MICROSOFT-CDO-ALLDAYEVENT:TRUE
SUMMARY:Zero to 5K Free Walk/Run Training Program - Kickoff Event!!
DESCRIPTION:New Albany High School Running Club & Ultimate U Total Health present the second annual NAHS Peace Week Run/Walk! (Wednesday\, April 20th at 1:00PM)\n\n\n\nThe FREE 5 Week Training Program will start March 16th!\n\n\n\nHave Fun. Get Fit. You Can Do It! We're There for You! Whether you're a beginner walker or an advanced runner\, you won't want to miss out on this fun opportunity to increase your fitness level for the benefit of a very worthwhile cause--the ALS Foundation\, Central & Southern Ohio Chapter. Ultimate U's team of health & fitness experts will provide free training and guidance for ALL FITNESS LEVELS. We will host FOUR FREE TRAINING SESSIONS PER WEEK right here at NAPLS schools starting Mon\, March 21st and continuing through to the Peace Week 5K on April 20th.\n\n\n\nTraining Program Details. Ultimate U will lead training sessions for three different "PACE" groups - 1.) beginners training for the 2 mile walking event\, 2.) walkers training to jog the 5K event\, and 3.) runners taking their race to the next level.\n\n\n\n \n\nWin Great Prizes. Contribute to a Cure! Every time you train with us you will earn points towards great giveaways and prizes AND our awesome sponsors will make an additional donation to the ALS fund!\n\n\n\nMissed the kick-off event?? No worries\, you can join any time!! Visit our website or call in to Ultimate U Total Health.
X-ALT-DESC;FMTTYPE=text/html:New Albany High School Running Club &amp\; Ultimate U Total Health present the second annual NAHS Peace Week Run/Walk! (Wednesday\, April 20th at 1:00PM)\n<br>\n<br>The FREE 5 Week Training Program will start March 16th!\n<br>\n<br>Have Fun. Get Fit. You Can Do It! We're There for You! Whether you're a beginner walker or an advanced runner\, you won't want to miss out on this fun opportunity to increase your fitness level for the benefit of a very worthwhile cause--the ALS Foundation\, Central &amp\; Southern Ohio Chapter. Ultimate U's team of health &amp\; fitness experts will provide free training and guidance for ALL FITNESS LEVELS. We will host FOUR FREE TRAINING SESSIONS PER WEEK right here at NAPLS schools starting Mon\, March 21st and continuing through to the Peace Week 5K on April 20th.\n<br>\n<br>Training Program Details. Ultimate U will lead training sessions for three different "PACE" groups - 1.) beginners training for the 2 mile walking event\, 2.) walkers training to jog the 5K event\, and 3.) runners taking their race to the next level.\n<br>\n<br> \n<br>Win Great Prizes. Contribute to a Cure! Every time you train with us you will earn points towards great giveaways and prizes AND our awesome sponsors will make an additional donation to the ALS fund!\n<br>\n<br>Missed the kick-off event?? No worries\, you can join any time!! Visit our website or call in to Ultimate U Total Health.\n<br>\n<br>
LOCATION:Students: 11am - 1pm\, NAHS Cafeteria Community & Staff: 2:45 - 3:30pm\, NAHS Jefferson Room
UID:e.304.774
SEQUENCE:3
DTSTAMP:20260420T130226Z
URL:https://cm.newalbanychamber.com/events/details/zero-to-5k-free-walk-run-training-program-kickoff-event-03-16-2011-774
END:VEVENT

END:VCALENDAR
