BEGIN:VCALENDAR
VERSION:2.0
PRODID:-//ChamberMaster//Event Calendar 2.0//EN
METHOD:PUBLISH
X-PUBLISHED-TTL:P3D
REFRESH-INTERVAL:P3D
CALSCALE:GREGORIAN
BEGIN:VEVENT
DTSTART:20100320T170000Z
DTEND:20100320T180000Z
X-MICROSOFT-CDO-ALLDAYEVENT:FALSE
SUMMARY:Zero to 5K with Ultimate U Kick-Off Meeting
DESCRIPTION:Ultimate U Kick-Off meeting for Zero to 5K walking/running program.  This is a free service to the New Albany community and is desinged to prepare its participants for the Race for the Cure (May15th) as well as the upcoming A & F challenge. The Program includes:Weekly hosted runs/walksEducationCamaraderieNetworking opportunitiesDiscounts on Ultimate U's serivces.
X-ALT-DESC;FMTTYPE=text/html:<div>Ultimate U Kick-Off meeting for Zero to 5K walking/running program.&nbsp\; This is a free service to the New Albany community and is desinged to prepare its participants for the Race for the Cure (May15th) as well as the upcoming A &amp\; F challenge.</div><div>&nbsp\;</div><div>The Program includes:</div><div>Weekly hosted runs/walks</div><div>Education</div><div>Camaraderie</div><div>Networking opportunities</div><div>Discounts on Ultimate U's serivces.</div>
LOCATION:Ultimate U Total Health5791 Zarley St.\, Ste BNew Albany\, Ohio 43054
UID:e.304.607
SEQUENCE:3
DTSTAMP:20260421T094508Z
URL:https://cm.newalbanychamber.com/events/details/zero-to-5k-with-ultimate-u-kick-off-meeting-03-20-2010-607
END:VEVENT

END:VCALENDAR
